BEGIN:VCALENDAR
VERSION:2.0
PRODID:icalendar-ruby
CALSCALE:GREGORIAN
METHOD:PUBLISH
BEGIN:VEVENT
DTSTAMP:20260424T223247Z
UID:5-406680@cca.tithelysetup5.com
DTSTART:20250608T010000Z
DTEND:20250608T020000Z
CLASS:PUBLIC
CREATED:20260425T040253
DESCRIPTION:Sunday Worship
LAST-MODIFIED:20260425T040253
LOCATION:
SUMMARY:Sunday Worship
URL;VALUE=URI:https://www.carnabys.org/events/sunday-worship/2025-06-08
END:VEVENT
END:VCALENDAR
