BEGIN:VCALENDAR
VERSION:2.0
PRODID:icalendar-ruby
CALSCALE:GREGORIAN
METHOD:PUBLISH
BEGIN:VEVENT
DTSTAMP:20260425T002320Z
UID:5-406942@cca.tithelysetup5.com
DTSTART:20250615T010000Z
DTEND:20250615T020000Z
CLASS:PUBLIC
CREATED:20260425T065045
DESCRIPTION:Sunday Worship
LAST-MODIFIED:20260425T065045
LOCATION:
SUMMARY:Sunday Worship
URL;VALUE=URI:https://www.carnabys.org/events/sunday-worship/2025-06-15
END:VEVENT
END:VCALENDAR
