BEGIN:VCALENDAR
VERSION:2.0
PRODID:icalendar-ruby
CALSCALE:GREGORIAN
METHOD:PUBLISH
BEGIN:VEVENT
DTSTAMP:20260421T213520Z
UID:5-402000@cca.tithelysetup5.com
DTSTART:20251012T010000Z
DTEND:20251012T020000Z
CLASS:PUBLIC
CREATED:20260422T031459
DESCRIPTION:Sunday Worship
LAST-MODIFIED:20260422T031459
LOCATION:
SUMMARY:Sunday Worship
URL;VALUE=URI:https://www.carnabys.org/events/sunday-worship/2025-10-12
END:VEVENT
END:VCALENDAR
