BEGIN:VCALENDAR
VERSION:2.0
PRODID:icalendar-ruby
CALSCALE:GREGORIAN
METHOD:PUBLISH
BEGIN:VEVENT
DTSTAMP:20260421T233210Z
UID:5-402262@cca.tithelysetup5.com
DTSTART:20251019T010000Z
DTEND:20251019T020000Z
CLASS:PUBLIC
CREATED:20260422T055208
DESCRIPTION:Sunday Worship
LAST-MODIFIED:20260422T055208
LOCATION:
SUMMARY:Sunday Worship
URL;VALUE=URI:https://www.carnabys.org/events/sunday-worship/2025-10-19
END:VEVENT
END:VCALENDAR
