BEGIN:VCALENDAR
VERSION:2.0
PRODID:icalendar-ruby
CALSCALE:GREGORIAN
METHOD:PUBLISH
BEGIN:VEVENT
DTSTAMP:20260422T071056Z
UID:5-402527@cca.tithelysetup5.com
DTSTART:20251116T010000Z
DTEND:20251116T020000Z
CLASS:PUBLIC
CREATED:20260422T083054
DESCRIPTION:Sunday Worship
LAST-MODIFIED:20260422T083054
LOCATION:
SUMMARY:Sunday Worship
URL;VALUE=URI:https://www.carnabys.org/events/sunday-worship/2025-11-16
END:VEVENT
END:VCALENDAR
